BEGIN:VCALENDAR
VERSION:2.0
PRODID:-//BVU - Trường Đại Học Bà Rịa - Vũng Tàu - ECPv5.16.4//NONSGML v1.0//EN
CALSCALE:GREGORIAN
METHOD:PUBLISH
X-WR-CALNAME:BVU - Trường Đại Học Bà Rịa - Vũng Tàu
X-ORIGINAL-URL:https://bvu.edu.vn
X-WR-CALDESC:Events for BVU - Trường Đại Học Bà Rịa - Vũng Tàu
BEGIN:VTIMEZONE
TZID:Asia/Krasnoyarsk
BEGIN:STANDARD
TZOFFSETFROM:+0700
TZOFFSETTO:+0700
TZNAME:+07
DTSTART:20240101T000000
END:STANDARD
END:VTIMEZONE
BEGIN:VEVENT
DTSTART;TZID=Asia/Krasnoyarsk:20241104T080000
DTEND;TZID=Asia/Krasnoyarsk:20241110T170000
DTSTAMP:20260425T221510
CREATED:20241108T072836Z
LAST-MODIFIED:20241108T073436Z
UID:20458-1730707200-1731258000@bvu.edu.vn
SUMMARY:Tuần 4 - Tuổi Trẻ BVU Hưởng Ứng Cuộc Thi Trực Tuyến Toàn Quốc Tìm Hiểu Về Cuốn Sách Của Cố Tổng Bí Thư Nguyễn Phú Trọng
DESCRIPTION:Cuộc thi trực tuyến toàn quốc “Tìm hiểu về cuốn sách của cố Tổng Bí thư Nguyễn Phú Trọng – Xây dựng và phát triển nền văn hóa Việt Nam tiên tiến\, đậm đà bản sắc dân tộc” đã chính thức được phát động. Cuộc thi này nhằm mục đích truyền tải sâu rộng tư tưởng\, quan điểm của cố Tổng Bí thư Nguyễn Phú Trọng về văn hóa\, đồng thời nâng cao nhận thức về tầm quan trọng của việc phát triển văn hóa dân tộc trong công cuộc xây dựng và bảo vệ Tổ quốc. \n \nMục Tiêu Cuộc Thi\nCuộc thi là cơ hội để cán bộ\, đảng viên\, công chức\, viên chức\, và người dân tìm hiểu kỹ lưỡng những nội dung cốt lõi\, nền tảng của cuốn sách Xây dựng và phát triển nền văn hóa Việt Nam tiên tiến\, đậm đà bản sắc dân tộc. Những tư tưởng và chỉ đạo của cố Tổng Bí thư được truyền tải\, giúp cộng đồng nhận thức rõ về vai trò của văn hóa trong phát triển bền vững và tạo nên sức mạnh nội sinh cho đất nước. \nCuộc thi cũng là dịp để giới trẻ BVU nói riêng và cộng đồng người trẻ nói chung hiểu thêm về nền văn hóa dân tộc\, khơi dậy lòng tự hào\, góp phần tích cực vào công cuộc gìn giữ và phát huy giá trị văn hóa Việt Nam. \n\nBắt đầu từ ngày 14/10/2024 đến hết ngày 17/11/2024\, cuộc thi bao gồm 5 tuần thi:\n\nTuần 1: 14 – 20/10/2024\nTuần 2: 21 – 27/10/2024\nTuần 3: 28/10 – 03/11/2024\nTuần 4: 04 – 10/11/2024\nTuần 5: 11 – 17/11/2024\n\n\n\nNội dung các câu hỏi thi xoay quanh cuốn sách Xây dựng và phát triển nền văn hóa Việt Nam tiên tiến\, đậm đà bản sắc dân tộc\, được chia thành 3 phần chính: \n\nVăn hóa là hồn cốt của dân tộc\nPhát triển toàn diện và đồng bộ để văn hóa trở thành sức mạnh nội sinh\nỨng dụng luận điểm văn hóa của Tổng Bí thư vào thực tiễn cuộc sống\n\nCách Thức Tham Gia\nThí sinh tham gia bằng cách truy cập vào Cổng Thông tin của Bộ Văn hóa\, Thể thao và Du lịch.  Mỗi tuần\, thí sinh có thể dự thi tối đa 7 lần\, mỗi lượt thi kéo dài không quá 10 phút. Sau khi hoàn thành phần thi trắc nghiệm\, thí sinh sẽ dự đoán số lượt người tham gia trong tuần và gửi bài. \nBan Tổ chức sẽ trao các giải thưởng hàng tuần bao gồm: \n\n01 giải Nhất\n03 giải Nhì\n05 giải Ba\n10 giải Khuyến khích\n05 giải chuyên đề cho toàn cuộc thi\n\nLễ Tổng kết và Trao giải dự kiến sẽ diễn ra vào cuối tháng 11/2024 tại Nhà hát Lớn Hà Nội. \nCuộc thi không chỉ là một sân chơi tri thức mà còn là cơ hội quý báu để sinh viên BVU học hỏi và hiểu sâu sắc hơn về những giá trị văn hóa dân tộc. Hãy cùng nhau tham gia để tôn vinh những giá trị cao quý mà cố Tổng Bí thư Nguyễn Phú Trọng đã truyền tải và góp phần giữ gìn bản sắc dân tộc! \nLink tham gia: https://thitructuyen.sachquocgia.vn/ \nHoàng Thuận
URL:https://bvu.edu.vn/event/tuoi-tre-bvu-huong-ung-cuoc-thi-truc-tuyen-toan-quoc-tim-hieu-ve-cuon-sach-cua-co-tong-bi-thu-nguyen-phu-trong/
CATEGORIES:Lịch sự kiện,Sự kiện sinh viên
ATTACH;FMTTYPE=image/png:https://bvu.edu.vn/wp-content/uploads/doan-hoi-bvu/doanhoibvu/2024/11/image/png/image202410141334441-1730362677882719596261.png
END:VEVENT
BEGIN:VEVENT
DTSTART;TZID=Asia/Krasnoyarsk:20241108T080000
DTEND;TZID=Asia/Krasnoyarsk:20241108T170000
DTSTAMP:20260425T221510
CREATED:20241108T094834Z
LAST-MODIFIED:20241108T094834Z
UID:20522-1731052800-1731085200@bvu.edu.vn
SUMMARY:Hội Thao Sinh Viên BVU 2024-2025: Tuổi Trẻ BVU Tỏa Sáng Với Môn Cầu Lông Chào Mừng Ngày Nhà Giáo Việt Nam 20/11
DESCRIPTION:Vào ngày 3/11 vừa qua\, trong không khí tưng bừng và đầy hào hứng của Chương trình Chào mừng Ngày Nhà Giáo Việt Nam 20/11\, cùng với Cuộc vận động “Mỗi sinh viên tập luyện một môn thể thao”\, Đại học Bà Rịa Vũng Tàu đã tổ chức thành công Hội Thao Sinh Viên BVU 2024-2025. Một trong những điểm nhấn ấn tượng của hội thao năm nay chính là những trận đấu sôi nổi và kịch tính trong môn Cầu lông\, với sự tham gia của hơn 100 vận động viên ở ba nội dung thi đấu: Cầu lông đơn nam\, đơn nữ và đôi nam – nữ. \n\nNgay từ đầu buổi sáng\, hơn 100 vận động viên đến từ các khoa và bộ môn khác nhau đã hòa mình vào không khí thể thao náo nhiệt tại hội thao. Các trận đấu cầu lông diễn ra hết sức kịch tính và căng thẳng\, với những pha cầu bay đầy kỹ thuật\, thể hiện sự nỗ lực không ngừng của các vận động viên. Mỗi trận đấu không chỉ là cuộc so tài về thể chất mà còn là cuộc tranh tài về tinh thần quyết tâm\, ý chí vượt qua thử thách. \nChính sự quyết tâm\, sự tập luyện chăm chỉ của các vận động viên đã mang đến những trận đấu đầy cảm xúc\, từ đó khơi dậy niềm đam mê thể thao trong lòng mỗi sinh viên BVU. Mỗi cú đánh\, mỗi pha cầu chính là minh chứng cho một tinh thần thể thao cao thượng và sự phấn đấu không mệt mỏi của tuổi trẻ. \nBên cạnh những cuộc thi đấu đầy sôi động\, Hội Thao Sinh Viên BVU 2024-2025 là nơi sinh viên có thể giao lưu\, học hỏi và rèn luyện thể chất một cách toàn diện. Hội thao không chỉ là cơ hội để các bạn thể hiện bản thân mà còn là dịp để khuyến khích phong trào thể dục thể thao\, tạo ra môi trường học tập và sinh hoạt lành mạnh cho sinh viên BVU. \nChúng ta không chỉ thi đấu để giành chiến thắng mà còn thi đấu để hiểu hơn về giá trị của sự kiên trì\, đoàn kết và tinh thần đồng đội. Những trận cầu gay cấn trong môn cầu lông đã trở thành một phần không thể thiếu trong hoạt động thể thao của sinh viên BVU\, giúp các bạn không chỉ nâng cao thể lực mà còn phát triển kỹ năng sống\, tinh thần đồng đội và khả năng làm việc nhóm. \nChương trình “Mỗi sinh viên tập luyện một môn thể thao” không chỉ là lời kêu gọi về việc nâng cao sức khỏe\, mà còn là lời nhắc nhở về tầm quan trọng của việc duy trì thói quen tập luyện thể thao đều đặn trong đời sống hàng ngày. Tham gia hội thao\, các bạn sinh viên BVU đã có cơ hội thử sức\, thể hiện khả năng và rèn luyện kỹ năng trong các môn thể thao yêu thích\, góp phần lan tỏa lối sống năng động\, khỏe mạnh đến cộng đồng sinh viên. \nChúng ta xin gửi lời chúc mừng tới tất cả các vận động viên đã tham gia thi đấu và cống hiến hết mình tại Hội Thao Sinh Viên BVU 2024-2025. Những thành tích mà các bạn đạt được chính là minh chứng cho sự nỗ lực không ngừng và tinh thần thể thao đầy nhiệt huyết. Các bạn đã mang đến niềm tự hào cho trường và là tấm gương sáng về sự quyết tâm\, lòng kiên trì và đam mê thể thao. \nBên cạnh những chiến thắng\, mỗi vận động viên đều xứng đáng nhận được những lời khen ngợi vì sự tham gia nhiệt tình\, tinh thần đoàn kết và tinh thần fair-play trong thi đấu. Những giây phút thi đấu thăng hoa\, những cảm xúc vui mừng\, hạnh phúc khi chiến thắng\, cũng như những phút giây tự hào khi vượt qua chính mình sẽ là những kỷ niệm khó quên trong đời sinh viên của mỗi người. \n             \nChúc các vận động viên tiếp tục giữ vững phong độ\, kiên trì luyện tập và chuẩn bị thật tốt cho những phần thi tiếp theo. Với tinh thần thể thao mạnh mẽ\, chúng ta tin rằng các bạn sẽ mang về những thành tích rực rỡ hơn nữa và tiếp tục là niềm tự hào của cộng đồng sinh viên BVU. \nHãy cùng nhau tiếp tục duy trì lối sống năng động và rèn luyện thể thao\, chinh phục những thử thách mới\, và lan tỏa niềm vui thể thao tới tất cả các bạn sinh viên tại BVU. \nHoàng Thuận
URL:https://bvu.edu.vn/event/hoi-thao-sinh-vien-bvu-2024-2025-tuoi-tre-bvu-toa-sang-voi-mon-cau-long-chao-mung-ngay-nha-giao-viet-nam-20-11/
CATEGORIES:Lịch sự kiện,Sự kiện sinh viên
ATTACH;FMTTYPE=image/jpeg:https://bvu.edu.vn/wp-content/uploads/doan-hoi-bvu/doanhoibvu/2024/11/image/jpeg/DB_05226-scaled-e1731059411504.jpg
END:VEVENT
END:VCALENDAR