BEGIN:VCALENDAR
VERSION:2.0
PRODID:-//BVU - Trường Đại Học Bà Rịa - Vũng Tàu - ECPv5.16.4//NONSGML v1.0//EN
CALSCALE:GREGORIAN
METHOD:PUBLISH
X-WR-CALNAME:BVU - Trường Đại Học Bà Rịa - Vũng Tàu
X-ORIGINAL-URL:https://bvu.edu.vn
X-WR-CALDESC:Events for BVU - Trường Đại Học Bà Rịa - Vũng Tàu
BEGIN:VTIMEZONE
TZID:Asia/Krasnoyarsk
BEGIN:STANDARD
TZOFFSETFROM:+0700
TZOFFSETTO:+0700
TZNAME:+07
DTSTART:20260101T000000
END:STANDARD
END:VTIMEZONE
BEGIN:VEVENT
DTSTART;TZID=Asia/Krasnoyarsk:20260424T140000
DTEND;TZID=Asia/Krasnoyarsk:20260424T170000
DTSTAMP:20260420T173234
CREATED:20260420T073805Z
LAST-MODIFIED:20260420T073837Z
UID:24164-1777039200-1777050000@bvu.edu.vn
SUMMARY:Lễ bàn giao Sinh viên tham gia Học kỳ Doanh nghiệp Khóa 2023 - Khoa Công nghệ - Kỹ thuật (BVU)
DESCRIPTION:🚀 [KHOA CN-KT] LỄ BÀN GIAO SINH VIÊN THAM GIA HỌC KỲ DOANH NGHIỆP – KHÓA 2023 \nCác BVUers Khoa Công nghệ – Kỹ thuật thân mến\,Học kỳ doanh nghiệp không chỉ là học phần 10 tín chỉ trong chương trình đào tạo mà còn là cơ hội để các bạn tiếp cận môi trường làm việc thực tế\, rèn luyện kỹ năng nghề nghiệp và sẵn sàng cho hành trình sau tốt nghiệp. 🎓💼 \n🔥 Thông tin sự kiện:Thời gian: 14h00 – 17h00\, Thứ Sáu\, ngày 24/04/2026Địa điểm: Hội trường Cơ sở 3\, số 397 Bùi Thiện Ngộ\, phường Rạch Dừa\, TP. HCM \n✨ Nội dung chương trình: \n\nGiao lưu\, kết nối giữa sinh viên\, giảng viên và doanh nghiệp\nChia sẻ kinh nghiệm thực tập\, cơ hội nghề nghiệp các Ngành khoa CN-KT\nThực hiện nghi thức bàn giao sinh viên tham gia học kỳ doanh nghiệp đến các đơn vị tiếp nhận\nGiải đáp những thắc mắc trước khi bước vào kỳ thực tập\n\n💡 Lưu ý: Sinh viên tham gia vui lòng chuẩn bị trang phục lịch sự\, tác phong nghiêm túc và có mặt đúng giờ để tạo ấn tượng tốt với doanh nghiệp. \nHẹn gặp các bạn tại chương trình! 🤝✨ \n#BVU #KhoaCNKT #HocKyDoanhNghiep #HKDN2026 #KetNoiDoanhNghiep #SinhVienBVU
URL:https://bvu.edu.vn/event/le-ban-giao-sinh-vien-tham-gia-hoc-ky-doanh-nghiep-khoa-2023-khoa-cong-nghe-ky-thuat-bvu/
LOCATION:Hội trường CS3 – BVU\, 397\, Bùi Thiện Ngộ\, P.Rạch Dừa\, TP HCM\, TP. Hồ Chí Minh
CATEGORIES:Lịch sự kiện,Sự kiện Khoa Kỹ thuật - Công nghệ
ATTACH;FMTTYPE=image/jpeg:https://bvu.edu.vn/wp-content/uploads/administrator/admin1/2026/04/image/jpeg/BVU-8-scaled.jpg
END:VEVENT
END:VCALENDAR